BEGIN:VCALENDAR
VERSION:2.0
PRODID:-//ChamberMaster//Event Calendar 2.0//EN
METHOD:PUBLISH
X-PUBLISHED-TTL:P3D
REFRESH-INTERVAL:P3D
CALSCALE:GREGORIAN
BEGIN:VEVENT
DTSTART:20231122T210000Z
DTEND:20231122T223000Z
X-MICROSOFT-CDO-ALLDAYEVENT:FALSE
SUMMARY:Support Group: Family Caregivers
DESCRIPTION:Every 1st Thursday of each month\n\nCaregiver support group for those caring for a loved one with dementia\n\nFacilitator: Joan Hull\n\nVia Zoom
X-ALT-DESC;FMTTYPE=text/html:Every 1st Thursday of each month<br />\nCaregiver support group for those caring for a loved one with dementia<br />\nFacilitator: Joan Hull<br />\nVia Zoom
LOCATION:Via Zoom Register in advance to receive zoom link 1.800.272.3900 805.342.0956
UID:e.815.35380
SEQUENCE:3
DTSTAMP:20260423T182547Z
URL:http://business.agchamber.com/events/details/support-group-family-caregivers-11-22-2023-35380
END:VEVENT

END:VCALENDAR
