BEGIN:VCALENDAR
VERSION:2.0
PRODID:-//ChamberMaster//Event Calendar 2.0//EN
METHOD:PUBLISH
X-PUBLISHED-TTL:P3D
REFRESH-INTERVAL:P3D
CALSCALE:GREGORIAN
BEGIN:VEVENT
DTSTART;VALUE=DATE:20231202
DTEND;VALUE=DATE:20231203
TRANSP:TRANSPARENT
X-MICROSOFT-CDO-ALLDAYEVENT:TRUE
SUMMARY:GB Holiday Parade Santa's Workshop
DESCRIPTION:Parade Applications are available at the Grover Beach Parks and Recreation offices located at 1230 Trouville Avenue and online at www.groverbeach.org
X-ALT-DESC;FMTTYPE=text/html:Parade Applications are available at the Grover Beach Parks and Recreation offices located at 1230 Trouville Avenue and online at www.groverbeach.org
LOCATION:West Grand Ave
UID:e.815.36063
SEQUENCE:3
DTSTAMP:20260424T132341Z
URL:https://business.agchamber.com/events/details/gb-holiday-parade-santa-s-workshop-36063
END:VEVENT

END:VCALENDAR
