BEGIN:VCALENDAR
VERSION:2.0
PRODID:-//ChamberMaster//Event Calendar 2.0//EN
METHOD:PUBLISH
X-PUBLISHED-TTL:P3D
REFRESH-INTERVAL:P3D
CALSCALE:GREGORIAN
BEGIN:VEVENT
DTSTART;VALUE=DATE:20221129
DTEND;VALUE=DATE:20221130
TRANSP:TRANSPARENT
X-MICROSOFT-CDO-ALLDAYEVENT:TRUE
SUMMARY:Giving Tuesday Fundraiser for Central Coast Childbirth Network
DESCRIPTION:Join Central Coast Childbirth Network on Giving Tuesday\, November 29th\, 12pm - 8 pm at Woodstock's Pizza in SLO to help support the programs and services at CCCN. Mention CCCN when ordering for dine-in or pick-up and up to 25% will be donated back to CCCN! Online order use code: Fundy5\n\n\n\nCan't make it to Woodstock Pizza or place an online order on Giving Tuesday? There are other ways you can give! Just follow the link to give your in-kind donations. We appreciate your support for our mission in building a stronger birth and wellness community!
X-ALT-DESC;FMTTYPE=text/html:<span style="color:rgb(0\, 0\, 0)\; font-family:montserrat\,sans-serif\; font-size:14px">Join Central Coast Childbirth Network on Giving Tuesday\, November 29th\, 12pm - 8 pm at Woodstock&#39\;s Pizza in SLO to help support the programs and services at CCCN. Mention CCCN when ordering for dine-in or pick-up and up to 25% will be donated back to CCCN! Online order use code: Fundy5</span><br />\n<br />\n<span style="color:rgb(38\, 38\, 38)\; font-family:-apple-system\,blinkmacsystemfont\,segoe ui\,roboto\,helvetica\,arial\,sans-serif\; font-size:14px">Can&rsquo\;t make it to Woodstock Pizza or place an online order on Giving Tuesday? There are other ways you can give! Just follow the <a href="https://www.centralcoastchildbirthnetwork.com/so/12OHLtytY?languageTag=en">link to give your in-kind donations</a>. We appreciate your support for our mission in building a stronger birth and wellness community!</span>
LOCATION:Woodstock's Pizza SLO
UID:e.815.35645
SEQUENCE:3
DTSTAMP:20260424T035719Z
URL:https://business.agchamber.com/events/details/giving-tuesday-fundraiser-for-central-coast-childbirth-network-35645
END:VEVENT

END:VCALENDAR
